BEGIN:VCALENDAR

VERSION:2.0

PRODID:-//hacksw/handcal//NONSGML v1.0//EN

BEGIN:VEVENT

UID:1f4c3eb2b582c1ef27aaf1e48192dc3f

DTSTAMP:20260424T141550Z

DTSTART:20210227T090000

DTEND:20210227T093000

SUMMARY: - 

LOCATION:

END:VEVENT

END:VCALENDAR