BEGIN:VCALENDAR

VERSION:2.0

PRODID:-//hacksw/handcal//NONSGML v1.0//EN

BEGIN:VEVENT

UID:5cd5ab3d4c26c50800be0dcd01aed4c7

DTSTAMP:20260424T141555Z

DTSTART:20210227T093000

DTEND:20210227T100000

SUMMARY: - 

LOCATION:

END:VEVENT

END:VCALENDAR