BEGIN:VCALENDAR

VERSION:2.0

PRODID:-//hacksw/handcal//NONSGML v1.0//EN

BEGIN:VEVENT

UID:87387c7114f79cf0e5ac3829f71da85e

DTSTAMP:20260424T142223Z

DTSTART:20210227T110000

DTEND:20210227T113000

SUMMARY:22294348 - 1/53 White Street, EMERALD QLD 4720

LOCATION:1/53 White Street, EMERALD QLD 4720

END:VEVENT

END:VCALENDAR