BEGIN:VCALENDAR

VERSION:2.0

PRODID:-//hacksw/handcal//NONSGML v1.0//EN

BEGIN:VEVENT

UID:7137781ce53be0e27bbae611b5eadef8

DTSTAMP:20260424T135617Z

DTSTART:20210227T103000

DTEND:20210227T110000

SUMMARY:21494387 - 11 Gene Street, EMERALD QLD 4720

LOCATION:11 Gene Street, EMERALD QLD 4720

END:VEVENT

END:VCALENDAR