BEGIN:VCALENDAR

VERSION:2.0

PRODID:-//hacksw/handcal//NONSGML v1.0//EN

BEGIN:VEVENT

UID:ee8fe4d473d0c9820f0273683338cda2

DTSTAMP:20210227T114332Z

DTSTART:20210227T090000

DTEND:20210227T093000

SUMMARY:L5556556 - 14 Glovar Street, EMERALD QLD 4720

LOCATION:14 Glovar Street, EMERALD QLD 4720

END:VEVENT

END:VCALENDAR