BEGIN:VCALENDAR

VERSION:2.0

PRODID:-//hacksw/handcal//NONSGML v1.0//EN

BEGIN:VEVENT

UID:4a88b1f4f0fdf788e2d36d4ad549db28

DTSTAMP:20210227T114512Z

DTSTART:20210227T100000

DTEND:20210227T103000

SUMMARY:L5608879 - 15 Dodd Drive, EMERALD QLD 4720

LOCATION:15 Dodd Drive, EMERALD QLD 4720

END:VEVENT

END:VCALENDAR