BEGIN:VCALENDAR

VERSION:2.0

PRODID:-//hacksw/handcal//NONSGML v1.0//EN

BEGIN:VEVENT

UID:4a2c200c44e2aaf9b8fce86e843cd4da

DTSTAMP:20210227T132001Z

DTSTART:20210227T093000

DTEND:20210227T100000

SUMMARY:22800272 - 26 Bridgeman Street, EMERALD QLD 4720

LOCATION:26 Bridgeman Street, EMERALD QLD 4720

END:VEVENT

END:VCALENDAR