BEGIN:VCALENDAR

VERSION:2.0

PRODID:-//hacksw/handcal//NONSGML v1.0//EN

BEGIN:VEVENT

UID:a20b33cc157979f779c226ec2df50892

DTSTAMP:20210227T132631Z

DTSTART:20210227T101500

DTEND:20210227T104500

SUMMARY:22582213 - 2 Grange Court, EMERALD QLD 4720

LOCATION:2 Grange Court, EMERALD QLD 4720

END:VEVENT

END:VCALENDAR