BEGIN:VCALENDAR

VERSION:2.0

PRODID:-//hacksw/handcal//NONSGML v1.0//EN

BEGIN:VEVENT

UID:b4f43c48c2299cce7d9e840a03f537bd

DTSTAMP:20210227T132522Z

DTSTART:20210227T094500

DTEND:20210227T101500

SUMMARY:22557709 - 39 Jeppesen Drive, EMERALD QLD 4720

LOCATION:39 Jeppesen Drive, EMERALD QLD 4720

END:VEVENT

END:VCALENDAR